BEGIN:VCALENDAR
VERSION:2.0
PRODID:-//Aforpel - ECPv6.0.11//NONSGML v1.0//EN
CALSCALE:GREGORIAN
METHOD:PUBLISH
X-WR-CALNAME:Aforpel
X-ORIGINAL-URL:https://staging.aforpel.org
X-WR-CALDESC:évènements pour Aforpel
REFRESH-INTERVAL;VALUE=DURATION:PT1H
X-Robots-Tag:noindex
X-PUBLISHED-TTL:PT1H
BEGIN:VTIMEZONE
TZID:Europe/Paris
BEGIN:DAYLIGHT
TZOFFSETFROM:+0100
TZOFFSETTO:+0200
TZNAME:CEST
DTSTART:20210328T010000
END:DAYLIGHT
BEGIN:STANDARD
TZOFFSETFROM:+0200
TZOFFSETTO:+0100
TZNAME:CET
DTSTART:20211031T010000
END:STANDARD
END:VTIMEZONE
BEGIN:VEVENT
DTSTART;TZID=Europe/Paris:20211208T190000
DTEND;TZID=Europe/Paris:20211208T210000
DTSTAMP:20260421T032425
CREATED:20211020T122415Z
LAST-MODIFIED:20211020T122415Z
UID:2844-1638990000-1638997200@staging.aforpel.org
SUMMARY:Groupe de parole pour les professionnels (intervision)
DESCRIPTION:Dans le cadre de nos pratiques et des difficultés potentielles rencontrées\, nous vous proposons des groupes de paroles afin d’échanger sur nos différentes pratiques et approches thérapeutiques (individuelles ou en groupes). \nAu regard du contexte actuel\, il nous semble important de pouvoir créer du lien dans une dynamique de bienveillance et d’échange. \nCes rencontres s’adressent avant tout aux professionnels de l’Aforpel mais également à tous ceux qui souhaiteraient y participer (psychologues\, psychiatres\, psycho praticiens et étudiants en psychologie). Ces réunions « d’ intervision » se déroulent en visio (Zoom)\, à raison d’une fois par mois. \n Voici la première date que nous vous proposons :  Mercredi 8 décembre (de 19h à 21h) \nPour vous inscrire\, envoyez-nous votre adresse mail à : Beaudoin.Manon75@gmail.com \nNous vous adresserons un lien sur lequel cliquer pour rejoindre la réunion. \n 
URL:https://staging.aforpel.org/event/groupe-de-parole-pour-les-professionnels-intervision/
CATEGORIES:Groupe de paroles,Professionnels,Supervisions et échanges de pratiques
ATTACH;FMTTYPE=image/jpeg:https://staging.aforpel.org/wp-content/uploads/2021/09/IMG_20210907_105856.jpg
END:VEVENT
END:VCALENDAR